BEGIN:VCALENDAR
VERSION:2.0
PRODID:-//DaLaurJo - ECPv6.15.3//NONSGML v1.0//EN
CALSCALE:GREGORIAN
METHOD:PUBLISH
X-WR-CALNAME:DaLaurJo
X-ORIGINAL-URL:https://dalaurjo.com
X-WR-CALDESC:Events for DaLaurJo
REFRESH-INTERVAL;VALUE=DURATION:PT1H
X-Robots-Tag:noindex
X-PUBLISHED-TTL:PT1H
BEGIN:VTIMEZONE
TZID:America/Puerto_Rico
BEGIN:STANDARD
TZOFFSETFROM:-0400
TZOFFSETTO:-0400
TZNAME:AST
DTSTART:20220101T000000
END:STANDARD
END:VTIMEZONE
BEGIN:VTIMEZONE
TZID:UTC
BEGIN:STANDARD
TZOFFSETFROM:+0000
TZOFFSETTO:+0000
TZNAME:UTC
DTSTART:20220101T000000
END:STANDARD
END:VTIMEZONE
BEGIN:VEVENT
DTSTART;TZID=America/Puerto_Rico:20221105T100000
DTEND;TZID=America/Puerto_Rico:20221105T170000
DTSTAMP:20260423T161855
CREATED:20220907T005225Z
LAST-MODIFIED:20220907T005225Z
UID:1875-1667642400-1667667600@dalaurjo.com
SUMMARY:Spirit of the Islands - November 5\, 2022
DESCRIPTION:Saturday November 5\, 2022 will be a magical day at the St. George Village Botanical Gardens. \nThere will be a variety of spiritual and healing art practitioners as well as live music\, lots of food and craft vendors.  Of course that means that DaLaurJo will be there with lots of beautiful one-of-a-kind handcrafted glass art and notecards. \n 
URL:https://dalaurjo.com/event/spirit-of-the-islands-november-5-2022/
LOCATION:St. George’s Botanical Garden\, 127 Estate St George\, fredriksted\, Virgin Islands (U.S.)
ATTACH;FMTTYPE=image/png:https://dalaurjo.com/wp-content/uploads/2022/09/spirit-of-the-island-2022-Event-Poster.png
END:VEVENT
BEGIN:VEVENT
DTSTART;TZID=UTC:20221003T090000
DTEND;TZID=UTC:20221003T130000
DTSTAMP:20260423T161856
CREATED:20220928T130239Z
LAST-MODIFIED:20220928T130239Z
UID:1886-1664787600-1664802000@dalaurjo.com
SUMMARY:Pop-Up Shopping event at Neighborhood Pharmacy
DESCRIPTION:I am going to be at Neighborhood Pharmacy  from 9am to 1pm showcasing beautiful handcrafted DaLaurJo products. And guess what………………… It is also my birthday. To celebrate\, there will be lots of surprises in store for you.
URL:https://dalaurjo.com/event/pop-up-shopping-event-at-neighborhood-pharmacy/
LOCATION:Neighborhood Pharmacy\, 140 B Estate St George Rd\, Frederiksted\, Virgin Islands (U.S.)
ATTACH;FMTTYPE=image/png:https://dalaurjo.com/wp-content/uploads/2022/09/Soft-Pop-Fashion-Instagram-About-Shop-Post.png
END:VEVENT
BEGIN:VEVENT
DTSTART;TZID=America/Puerto_Rico:20220910T080000
DTEND;TZID=America/Puerto_Rico:20220910T120000
DTSTAMP:20260423T161856
CREATED:20220904T174609Z
LAST-MODIFIED:20220904T174609Z
UID:1862-1662796800-1662811200@dalaurjo.com
SUMMARY:Saturday Market @ The Agricultural Fairgrounds
DESCRIPTION:DaLaurJo will be in the Pavilion (the large green building) from 8am to 12 noon with a wide selection of notecards and glass accessories. Lots of other local arts are there too.\nCome and experience the Saturday Market; it is so much more than just produce! \n 
URL:https://dalaurjo.com/event/saturday-market-the-agricultural-fairgrounds/
LOCATION:Agricultural Fairgrounds\, St. Croix\, USVI\, Centerline Rd\, St Croix\, Virgin Islands (U.S.)
ATTACH;FMTTYPE=image/png:https://dalaurjo.com/wp-content/uploads/2022/09/saturday-market.png
END:VEVENT
END:VCALENDAR